BEGIN:VCALENDAR
VERSION:2.0
PRODID:-//Bündnis #GegenBerufsverbot - ECPv6.3.3.1//NONSGML v1.0//EN
CALSCALE:GREGORIAN
METHOD:PUBLISH
X-ORIGINAL-URL:https://gegenberufsverbot.de
X-WR-CALDESC:Events for Bündnis #GegenBerufsverbot
REFRESH-INTERVAL;VALUE=DURATION:PT1H
X-Robots-Tag:noindex
X-PUBLISHED-TTL:PT1H
BEGIN:VTIMEZONE
TZID:Europe/Helsinki
BEGIN:DAYLIGHT
TZOFFSETFROM:+0200
TZOFFSETTO:+0300
TZNAME:EEST
DTSTART:20200329T010000
END:DAYLIGHT
BEGIN:STANDARD
TZOFFSETFROM:+0300
TZOFFSETTO:+0200
TZNAME:EET
DTSTART:20201025T010000
END:STANDARD
END:VTIMEZONE
BEGIN:VEVENT
DTSTART;VALUE=DATE:20201107
DTEND;VALUE=DATE:20201108
DTSTAMP:20260423T080504
CREATED:20190725T134901Z
LAST-MODIFIED:20200822T201111Z
UID:1605-1604707200-1604793599@gegenberufsverbot.de
SUMMARY:Netzwerktreffen muslimischer Akteure in der Sozialen Arbeit zum Thema "Leader & Muslim"
DESCRIPTION:
URL:https://gegenberufsverbot.de/event/flucht-migration-heimaten-musliminnen-und-deutschland/
END:VEVENT
END:VCALENDAR